BEGIN:VCALENDAR
METHOD:PUBLISH
PRODID:-//github.com/rianjs/ical.net//NONSGML ical.net 4.0//EN
VERSION:2.0
BEGIN:VTIMEZONE
TZID:America/Chicago
X-LIC-LOCATION:America/Chicago
BEGIN:STANDARD
DTSTART:20241103T020000
RRULE:FREQ=YEARLY;BYDAY=1SU;BYMONTH=11
TZNAME:CST
TZOFFSETFROM:-0500
TZOFFSETTO:-0600
END:STANDARD
BEGIN:DAYLIGHT
DTSTART:20250309T020000
RRULE:FREQ=YEARLY;BYDAY=2SU;BYMONTH=3
TZNAME:CDT
TZOFFSETFROM:-0600
TZOFFSETTO:-0500
END:DAYLIGHT
END:VTIMEZONE
BEGIN:VEVENT
DESCRIPTION;LANGUAGE=en-US:This meeting of the LCRB will be in room 124 of
  Village Hall.\nhttps://www.oak-park.us/Government/Citizen-Boards-and-Com
 missions/Citizen-Commission-Meetings/2026-04-28-LCRB
DTEND:20260428T235959
DTSTAMP:20260425T151216Z
DTSTART:20260428T193000
GEO:41.879328;-87.779100
LOCATION:Village Hall\, 123 Madison St.\, Oak Park\, IL 60302
SEQUENCE:0
SUMMARY;LANGUAGE=en-US:28 Apr 2026 - Liquor Control Review Board Meeting
UID:OpenCities.f1e56bd2-c7ee-4e13-89b1-6426b6a48189.28302026190400
BEGIN:VALARM
ACTION:DISPLAY
DESCRIPTION:Reminder
DURATION:P0D
TRIGGER:P0D
END:VALARM
END:VEVENT
END:VCALENDAR
