BEGIN:VCALENDAR
METHOD:PUBLISH
PRODID:-//github.com/rianjs/ical.net//NONSGML ical.net 4.0//EN
VERSION:2.0
BEGIN:VTIMEZONE
TZID:America/Chicago
X-LIC-LOCATION:America/Chicago
BEGIN:STANDARD
DTSTART:20241103T020000
RRULE:FREQ=YEARLY;BYDAY=1SU;BYMONTH=11
TZNAME:CST
TZOFFSETFROM:-0500
TZOFFSETTO:-0600
END:STANDARD
BEGIN:DAYLIGHT
DTSTART:20250309T020000
RRULE:FREQ=YEARLY;BYDAY=2SU;BYMONTH=3
TZNAME:CDT
TZOFFSETFROM:-0600
TZOFFSETTO:-0500
END:DAYLIGHT
END:VTIMEZONE
BEGIN:VEVENT
DESCRIPTION;LANGUAGE=en-US:This meeting of the HPC will be in room 201\, C
 ouncil Chambers\, of Village Hall.\nhttps://www.oak-park.us/Government/Ci
 tizen-Boards-and-Commissions/Citizen-Commission-Meetings/2026-04-23-HPC
DTEND:20260423T235959
DTSTAMP:20260421T215303Z
DTSTART:20260423T183000
GEO:41.879328;-87.779100
LOCATION:Village Hall\, 123 Madison St.\, Oak Park\, IL 60302
SEQUENCE:0
SUMMARY;LANGUAGE=en-US:23 Apr 2026 - Historic Preservation Commission Meet
 ing
UID:OpenCities.569adb87-90ec-4ed9-ac8c-3c0fa1dcadea.23302026180400
BEGIN:VALARM
ACTION:DISPLAY
DESCRIPTION:Reminder
DURATION:P0D
TRIGGER:P0D
END:VALARM
END:VEVENT
END:VCALENDAR
